BEGIN:VCALENDAR
METHOD:PUBLISH
VERSION:2.0
CALSCALE:GREGORIAN
PRODID:-//NONSGML WPForms//NONSGML Sugar Calendar Feeds v3.10.0//EN
X-WR-CALNAME:Dinings SW3 weekend residency at The Oarsman
X-WR-CALDESC:My Marlow
X-WR-TIMEZONE:Europe/London
BEGIN:VTIMEZONE
TZID:Europe/London
BEGIN:STANDARD
TZOFFSETFROM:+0100
TZOFFSETTO:+0000
DTSTART:20251026T010000
TZNAME:GMT
END:STANDARD
BEGIN:DAYLIGHT
TZOFFSETFROM:+0000
TZOFFSETTO:+0100
DTSTART:20260329T010000
TZNAME:BST
END:DAYLIGHT
END:VTIMEZONE
BEGIN:VTIMEZONE
TZID:Europe/London
BEGIN:STANDARD
TZOFFSETFROM:+0100
TZOFFSETTO:+0000
DTSTART:20251026T010000
TZNAME:GMT
END:STANDARD
BEGIN:DAYLIGHT
TZOFFSETFROM:+0000
TZOFFSETTO:+0100
DTSTART:20260329T010000
TZNAME:BST
END:DAYLIGHT
END:VTIMEZONE
BEGIN:VEVENT
SUMMARY:Dinings SW3 weekend residency at The Oarsman
DESCRIPTION:This spring\, the team behind Japanese restaurant Dinings SW
 3 in Knightsbridge will take a trip to Marlow for a weekend-long residen
 cy at The Oarsman restaurant\, running 23rd to 25th April.\n\n\n\nTaking
  over The Room Upstairs – The Oarsman’s intimate first floor dining 
 space formerly home to Simon Bonwick’s The Troublesome Lodger – the 
 three-day collaboration brings Dinings SW3’s distinctive Japanese cook
 ing style to Marlow for the very first time. Guests will be seated on a 
 single shared dining table\, where they will be presented with a multi-c
 ourse omakase menu (meaning as chosen by the chef) showcasing Executive 
 Chef Masaki Sugisaki’s signature style\, which combines authentic Japa
 nese technique with subtle European influences.\n\n\n\nApproaching its t
 enth anniversary\, Dinings SW3 is one of London’s best-loved Japanese 
 restaurants. Located close to Knightsbridge and Sloane Square\, Masaki a
 nd his team orchestrate a unique\, izakaya-inspired experience within th
 e restaurant – elegant yet informal – offering long-standing Dinings
  SW3 signatures alongside weekly-changing specials and dishes adapted to
  the seasons.\n\n\n\nHoping to recreate that same spirit in Marlow\, gue
 sts at The Oarsman can expect dishes such as Koji cured venison tartare\
 , Charred hand-dived scallops and a sushi course\, with many plates shap
 ed by Masaki’s commitment to sustainability and his ‘gill-to-tail’
  philosophy\, ensuring thoughtful use of the whole catch.\n\n\n\nDinings
  SW3 residency at The Oarsman will run on Thursday\, April 23rd (dinner)
 \, Friday\, April 24th (lunch &amp\; dinner) and Saturday\, April 25th (
 lunch &amp\; dinner). The lunch sitting will feature a slightly shorter 
 menu. Each experience will begin with a welcome cocktail and optional dr
 inks pairings will showcase carefully selected wines and sakes to comple
 ment the dishes.\n\n\n\nPictured: (Dinings SW3 in Knightsbridge)Lunch\, 
 12.30pm – £75pp / Dinner\, 7pm arrival – £95pp\n\n\n\nA wine &amp\
 ; sake pairing option will be available for £40 at lunchtime\, and £60
  for dinner\n\n\n\nThe residency can cater for vegetarians with advance 
 notice\n\n\n\nBook via the&nbsp\;Dinings SW3 website.\n\n\n\n@dinings_sw
 3@theoarsmanmarlow
URL;VALUE=URI:https://www.mymarlow.co.uk/events/dinings-sw3-weekend-resi
 dency-at-the-oarsman/
UID:urn:uuid:fe599ebc-3900-4717-9f60-a2b9968c0817
STATUS:CONFIRMED
ORGANIZER:
DTSTAMP:20260424T121526Z
DTSTART;VALUE=DATE:20260423
DTEND;VALUE=DATE:20260425
LOCATION:The Oarsman
END:VEVENT
END:VCALENDAR